BEGIN:VCALENDAR
VERSION:2.0
PRODID:-//OsakaLive//OsakaLive//EN
CALSCALE:GREGORIAN
METHOD:PUBLISH
BEGIN:VEVENT
UID:b381fbc7-42ab-4f10-a330-4b2dbae4f4a4@osaka-live.app
DTSTAMP:20260425T002951Z
DTSTART;VALUE=DATE:20270610
DTEND;VALUE=DATE:20270611
SUMMARY:■ザ・ベータ・バンド／THE BETA BAND
LOCATION:Grand Cube Osaka\, Osaka\, Japan
END:VEVENT
END:VCALENDAR
