BEGIN:VCALENDAR
VERSION:2.0
PRODID:-//OsakaLive//OsakaLive//EN
CALSCALE:GREGORIAN
METHOD:PUBLISH
BEGIN:VEVENT
UID:b2e2c1e1-109c-4da4-9995-cea145dc119b@osaka-live.app
DTSTAMP:20260424T121536Z
DTSTART;TZID=Asia/Tokyo:20260502T1300:0000
DTEND;TZID=Asia/Tokyo:20260502T150000
SUMMARY:The Fax ONE MAN SHOW
LOCATION:Namba BEARS\, Osaka\, Japan
DESCRIPTION:Adv ¥1,000 / Door ¥1,000\nDoors 12:30:00\nStart 13:00:00
END:VEVENT
END:VCALENDAR
