BEGIN:VCALENDAR
VERSION:2.0
PRODID:-//OsakaLive//OsakaLive//EN
CALSCALE:GREGORIAN
METHOD:PUBLISH
BEGIN:VEVENT
UID:b1ace6b4-370d-4d6d-bab0-c059b8872689@osaka-live.app
DTSTAMP:20260424T140454Z
DTSTART;TZID=Asia/Tokyo:20260705T1645:0000
DTEND;TZID=Asia/Tokyo:20260705T184500
SUMMARY:NAMBA Mele Presents. Special Two-Man Show
LOCATION:Namba Mele\, Namba\, Chuo Ward\, Osaka
DESCRIPTION:Adv ¥3,300 / Door ¥3,800\nDoors 16:00:00\nStart 16:45:00\nTicke
 ts: https://eplus.jp/sf/detail/4473500001-P0030001
URL:https://eplus.jp/sf/detail/4473500001-P0030001
END:VEVENT
END:VCALENDAR
