BEGIN:VCALENDAR
VERSION:2.0
PRODID:-//OsakaLive//OsakaLive//EN
CALSCALE:GREGORIAN
METHOD:PUBLISH
BEGIN:VEVENT
UID:b00b940d-68df-49df-9956-20a0b5d82163@osaka-live.app
DTSTAMP:20260424T154308Z
DTSTART;TZID=Asia/Tokyo:20260418T1625:0000
DTEND;TZID=Asia/Tokyo:20260418T182500
SUMMARY:ワッツ◎さーくる単独 ノンストップ歴代衣装公演
LOCATION:Americamura DROP\, Osaka\, Japan
DESCRIPTION:Adv ¥2,500 / Door ¥1,000\nDoors 16:10:00\nStart 16:25:00
END:VEVENT
END:VCALENDAR
