BEGIN:VCALENDAR
VERSION:2.0
PRODID:-//OsakaLive//OsakaLive//EN
CALSCALE:GREGORIAN
METHOD:PUBLISH
BEGIN:VEVENT
UID:af79a3ea-fa6c-4503-b6f7-d9b8c01575c0@osaka-live.app
DTSTAMP:20260425T003442Z
DTSTART;VALUE=DATE:20270509
DTEND;VALUE=DATE:20270510
SUMMARY:■イル・ディーヴォ／IL DIVO
LOCATION:Grand Cube Osaka\, Osaka\, Japan
END:VEVENT
END:VCALENDAR
