BEGIN:VCALENDAR
VERSION:2.0
PRODID:-//OsakaLive//OsakaLive//EN
CALSCALE:GREGORIAN
METHOD:PUBLISH
BEGIN:VEVENT
UID:aea87243-59b6-4bb5-98d9-a9c7d71a6fbd@osaka-live.app
DTSTAMP:20260424T123739Z
DTSTART;VALUE=DATE:20261107
DTEND;VALUE=DATE:20261108
SUMMARY:南炭屋町ビル東側1F
LOCATION:BRONZE\, Osaka\, Japan
END:VEVENT
END:VCALENDAR
