BEGIN:VCALENDAR
VERSION:2.0
PRODID:-//OsakaLive//OsakaLive//EN
CALSCALE:GREGORIAN
METHOD:PUBLISH
BEGIN:VEVENT
UID:ade76ca9-8b93-477e-a23e-8c898f49c1ad@osaka-live.app
DTSTAMP:20260424T122332Z
DTSTART;TZID=Asia/Tokyo:20260515T2000:0000
DTEND;TZID=Asia/Tokyo:20260515T220000
SUMMARY:後藤まりこアコースティックviolence POP
LOCATION:Namba BEARS\, Osaka\, Japan
DESCRIPTION:Adv ¥3,000 / Door ¥1,500\nDoors 19:30:00\nStart 20:00:00
END:VEVENT
END:VCALENDAR
