BEGIN:VCALENDAR
VERSION:2.0
PRODID:-//OsakaLive//OsakaLive//EN
CALSCALE:GREGORIAN
METHOD:PUBLISH
BEGIN:VEVENT
UID:ad75397f-b0c1-44ed-ba2e-c214e2d780c1@osaka-live.app
DTSTAMP:20260425T003629Z
DTSTART;VALUE=DATE:20270420
DTEND;VALUE=DATE:20270421
SUMMARY:■タワー・オブ・パワー／Tower of Power
LOCATION:Osaka Ruido\, Namba\, Chuo Ward\, Osaka
END:VEVENT
END:VCALENDAR
