BEGIN:VCALENDAR
VERSION:2.0
PRODID:-//OsakaLive//OsakaLive//EN
CALSCALE:GREGORIAN
METHOD:PUBLISH
BEGIN:VEVENT
UID:ac3d4ced-15af-454b-baec-d07880cbf1b9@osaka-live.app
DTSTAMP:20260424T134233Z
DTSTART;TZID=Asia/Tokyo:20260529T1930:0000
DTEND;TZID=Asia/Tokyo:20260529T213000
SUMMARY:Earthists.
LOCATION:Yogibo META VALLEY\, Osaka\, Japan
DESCRIPTION:Adv ¥6,000 / Door ¥4,800\nDoors 18:45:00\nStart 19:30:00
END:VEVENT
END:VCALENDAR
