BEGIN:VCALENDAR
VERSION:2.0
PRODID:-//OsakaLive//OsakaLive//EN
CALSCALE:GREGORIAN
METHOD:PUBLISH
BEGIN:VEVENT
UID:abf79733-90df-4133-8c4e-29cf1331e2d1@osaka-live.app
DTSTAMP:20260424T123224Z
DTSTART;TZID=Asia/Tokyo:20260430T1800:0000
DTEND;TZID=Asia/Tokyo:20260430T200000
SUMMARY:Parallel Frank×DROP pre. SAYONARA YUKINO〜ゆきのは専属卒業します〜
LOCATION:Americamura DROP\, Osaka\, Japan
DESCRIPTION:Doors 17:30:00\nStart 18:00:00
END:VEVENT
END:VCALENDAR
