BEGIN:VCALENDAR
VERSION:2.0
PRODID:-//OsakaLive//OsakaLive//EN
CALSCALE:GREGORIAN
METHOD:PUBLISH
BEGIN:VEVENT
UID:a9579902-4a32-4d4a-a48f-044301ec8f81@osaka-live.app
DTSTAMP:20260425T003534Z
DTSTART;VALUE=DATE:20271013
DTEND;VALUE=DATE:20271014
SUMMARY:■パラダイス・ロスト／Paradise Lost
LOCATION:Grand Cube Osaka\, Osaka\, Japan
END:VEVENT
END:VCALENDAR
