BEGIN:VCALENDAR
VERSION:2.0
PRODID:-//OsakaLive//OsakaLive//EN
CALSCALE:GREGORIAN
METHOD:PUBLISH
BEGIN:VEVENT
UID:a8c65f10-4cef-4841-b635-c8951e99ec4c@osaka-live.app
DTSTAMP:20260424T133852Z
DTSTART;TZID=Asia/Tokyo:20260517T1230:0000
DTEND;TZID=Asia/Tokyo:20260517T143000
SUMMARY:未定　※ベアーズ予約なし
LOCATION:Namba BEARS\, Osaka\, Japan
DESCRIPTION:Adv ¥4,000 / Door ¥4,000\nDoors 12:00:00\nStart 12:30:00
END:VEVENT
END:VCALENDAR
