BEGIN:VCALENDAR
VERSION:2.0
PRODID:-//OsakaLive//OsakaLive//EN
CALSCALE:GREGORIAN
METHOD:PUBLISH
BEGIN:VEVENT
UID:a7b82bf3-820e-4e19-bf92-ba850d7b7698@osaka-live.app
DTSTAMP:20260425T002235Z
DTSTART;VALUE=DATE:20271012
DTEND;VALUE=DATE:20271013
SUMMARY:■ニック・ヘイワード／Nick Heyward
LOCATION:Grand Cube Osaka\, Osaka\, Japan
END:VEVENT
END:VCALENDAR
