BEGIN:VCALENDAR
VERSION:2.0
PRODID:-//OsakaLive//OsakaLive//EN
CALSCALE:GREGORIAN
METHOD:PUBLISH
BEGIN:VEVENT
UID:a793d477-e732-4920-856b-7bb0d61bdd82@osaka-live.app
DTSTAMP:20260424T121351Z
DTSTART;TZID=Asia/Tokyo:20260428T1900:0000
DTEND;TZID=Asia/Tokyo:20260428T210000
SUMMARY:NEGATIVE × House Of The Blood Choir pre.
LOCATION:Namba BEARS\, Osaka\, Japan
DESCRIPTION:Adv ¥3,000 / Door ¥3,000\nStart 19:00:00
END:VEVENT
END:VCALENDAR
