BEGIN:VCALENDAR
VERSION:2.0
PRODID:-//OsakaLive//OsakaLive//EN
CALSCALE:GREGORIAN
METHOD:PUBLISH
BEGIN:VEVENT
UID:a731cd3c-4e05-4d0d-9295-073b2fcec8d5@osaka-live.app
DTSTAMP:20260424T123235Z
DTSTART;VALUE=DATE:20260411
DTEND;VALUE=DATE:20260412
SUMMARY:NIGHT
LOCATION:Hokage\, Chuo Ward\, Nishishinsaibashi 2-9-36\, Kasai Bldg B1F
END:VEVENT
END:VCALENDAR
