BEGIN:VCALENDAR
VERSION:2.0
PRODID:-//OsakaLive//OsakaLive//EN
CALSCALE:GREGORIAN
METHOD:PUBLISH
BEGIN:VEVENT
UID:a6a6a71e-9fbe-4dd6-b4c0-9dcabb9811f8@osaka-live.app
DTSTAMP:20260425T102851Z
DTSTART;VALUE=DATE:20270718
DTEND;VALUE=DATE:20270719
SUMMARY:■リヴィング・エンド／The Living End
LOCATION:Umeda Club Quattro\, Osaka\, Japan
END:VEVENT
END:VCALENDAR
