BEGIN:VCALENDAR
VERSION:2.0
PRODID:-//OsakaLive//OsakaLive//EN
CALSCALE:GREGORIAN
METHOD:PUBLISH
BEGIN:VEVENT
UID:a5f64238-d243-484c-9ca0-4a4df8280fdf@osaka-live.app
DTSTAMP:20260424T135742Z
DTSTART;TZID=Asia/Tokyo:20260724T1900:0000
DTEND;TZID=Asia/Tokyo:20260724T210000
SUMMARY:不失者（灰野敬二 創曲
LOCATION:Namba BEARS\, Osaka\, Japan
DESCRIPTION:Adv ¥5,000 / Door ¥5,500\nDoors 18:30:00\nStart 19:00:00
END:VEVENT
END:VCALENDAR
