BEGIN:VCALENDAR
VERSION:2.0
PRODID:-//OsakaLive//OsakaLive//EN
CALSCALE:GREGORIAN
METHOD:PUBLISH
BEGIN:VEVENT
UID:a5c6ef2e-9ad3-40f4-94f5-8ca2879e29e8@osaka-live.app
DTSTAMP:20260424T135825Z
DTSTART;VALUE=DATE:20260328
DTEND;VALUE=DATE:20260329
SUMMARY:JANUS・e+
LOCATION:Music Club JANUS\, Shinsaibashi\, Chuo Ward\, Osaka
DESCRIPTION:Adv ¥2,800 / Door ¥3,300
END:VEVENT
END:VCALENDAR
