BEGIN:VCALENDAR
VERSION:2.0
PRODID:-//OsakaLive//OsakaLive//EN
CALSCALE:GREGORIAN
METHOD:PUBLISH
BEGIN:VEVENT
UID:a5bb2394-ee78-4d52-b0e6-0629251eea4a@osaka-live.app
DTSTAMP:20260424T123554Z
DTSTART;TZID=Asia/Tokyo:20260501T2030:0000
DTEND;TZID=Asia/Tokyo:20260501T223000
SUMMARY:DEATHRO 10th Anniversary
LOCATION:Namba BEARS\, Osaka\, Japan
DESCRIPTION:Adv ¥2,000 / Door ¥2,000\nDoors 20:00:00\nStart 20:30:00
END:VEVENT
END:VCALENDAR
