BEGIN:VCALENDAR
VERSION:2.0
PRODID:-//OsakaLive//OsakaLive//EN
CALSCALE:GREGORIAN
METHOD:PUBLISH
BEGIN:VEVENT
UID:a47a2e2e-9acc-4c46-92d9-9578e357545a@osaka-live.app
DTSTAMP:20260424T123551Z
DTSTART;TZID=Asia/Tokyo:20260423T1930:0000
DTEND;TZID=Asia/Tokyo:20260423T213000
SUMMARY:"LIKE A BEARS"
LOCATION:Namba BEARS\, Osaka\, Japan
DESCRIPTION:Adv ¥2,000 / Door ¥2,000\nDoors 19:00:00\nStart 19:30:00
END:VEVENT
END:VCALENDAR
