BEGIN:VCALENDAR
VERSION:2.0
PRODID:-//OsakaLive//OsakaLive//EN
CALSCALE:GREGORIAN
METHOD:PUBLISH
BEGIN:VEVENT
UID:a471f405-496c-4cdc-a09a-dc4180774fff@osaka-live.app
DTSTAMP:20260424T121438Z
DTSTART;TZID=Asia/Tokyo:20260515T1900:0000
DTEND;TZID=Asia/Tokyo:20260515T210000
SUMMARY:無双∞ 1st LIVE「Level 01: The Beginning
LOCATION:Yogibo META VALLEY\, Osaka\, Japan
DESCRIPTION:Adv ¥6,500 / Door ¥8,800\nDoors 18:00:00\nStart 19:00:00
END:VEVENT
END:VCALENDAR
