BEGIN:VCALENDAR
VERSION:2.0
PRODID:-//OsakaLive//OsakaLive//EN
CALSCALE:GREGORIAN
METHOD:PUBLISH
BEGIN:VEVENT
UID:a40f09fc-e57e-4c21-909b-5e1f3b09bfce@osaka-live.app
DTSTAMP:20260424T123223Z
DTSTART;VALUE=DATE:20260407
DTEND;VALUE=DATE:20260408
SUMMARY:Zeela present. MAGIC HOUR
LOCATION:Umeda Zeela\, Osaka\, Japan
DESCRIPTION:Adv ¥2,800 / Door ¥3,300
END:VEVENT
END:VCALENDAR
