BEGIN:VCALENDAR
VERSION:2.0
PRODID:-//OsakaLive//OsakaLive//EN
CALSCALE:GREGORIAN
METHOD:PUBLISH
BEGIN:VEVENT
UID:a3a7959b-0e8a-44d3-b8b1-07b0c2340c65@osaka-live.app
DTSTAMP:20260424T122437Z
DTSTART;TZID=Asia/Tokyo:20260502T1640:0000
DTEND;TZID=Asia/Tokyo:20260502T184000
SUMMARY:朱煌響生誕祭2026 -あなたがいるからアイドルでいれる
LOCATION:Yogibo META VALLEY\, Osaka\, Japan
DESCRIPTION:Adv ¥5,500 / Door ¥3,000\nDoors 16:00:00\nStart 16:40:00
END:VEVENT
END:VCALENDAR
