BEGIN:VCALENDAR
VERSION:2.0
PRODID:-//OsakaLive//OsakaLive//EN
CALSCALE:GREGORIAN
METHOD:PUBLISH
BEGIN:VEVENT
UID:a2ae4839-6366-480a-b2ae-7891149bff50@osaka-live.app
DTSTAMP:20260424T123614Z
DTSTART;VALUE=DATE:20260419
DTEND;VALUE=DATE:20260420
SUMMARY:ボクフェスvol.17
LOCATION:Americamura DROP\, Osaka\, Japan
DESCRIPTION:Adv ¥2,500 / Door ¥1,000
END:VEVENT
END:VCALENDAR
