BEGIN:VCALENDAR
VERSION:2.0
PRODID:-//OsakaLive//OsakaLive//EN
CALSCALE:GREGORIAN
METHOD:PUBLISH
BEGIN:VEVENT
UID:a21952e7-3a12-4e3d-a8f0-76b65fc24488@osaka-live.app
DTSTAMP:20260424T154308Z
DTSTART;TZID=Asia/Tokyo:20260628T1600:0000
DTEND;TZID=Asia/Tokyo:20260628T180000
SUMMARY:LoveTale 大阪公演
LOCATION:Americamura DROP\, Osaka\, Japan
DESCRIPTION:Doors 15:30:00\nStart 16:00:00
END:VEVENT
END:VCALENDAR
