BEGIN:VCALENDAR
VERSION:2.0
PRODID:-//OsakaLive//OsakaLive//EN
CALSCALE:GREGORIAN
METHOD:PUBLISH
BEGIN:VEVENT
UID:a2171aba-7164-40d8-86ee-e92978e4881b@osaka-live.app
DTSTAMP:20260424T184233Z
DTSTART;VALUE=DATE:20260503
DTEND;VALUE=DATE:20260504
SUMMARY:KENNY DOPE JAPAN TOUR 2026
LOCATION:Club Joule\, Shinsaibashi\, Chuo Ward\, Osaka
END:VEVENT
END:VCALENDAR
