BEGIN:VCALENDAR
VERSION:2.0
PRODID:-//OsakaLive//OsakaLive//EN
CALSCALE:GREGORIAN
METHOD:PUBLISH
BEGIN:VEVENT
UID:a201d240-5a18-42df-b160-716025fe05f4@osaka-live.app
DTSTAMP:20260424T123737Z
DTSTART;VALUE=DATE:20260402
DTEND;VALUE=DATE:20260403
SUMMARY:賭博DJ録 シミズ -27億 誕生編
LOCATION:Americamura DROP\, Osaka\, Japan
DESCRIPTION:Adv ¥700 / Door ¥700
END:VEVENT
END:VCALENDAR
