BEGIN:VCALENDAR
VERSION:2.0
PRODID:-//OsakaLive//OsakaLive//EN
CALSCALE:GREGORIAN
METHOD:PUBLISH
BEGIN:VEVENT
UID:a1b79812-5a02-49b3-90b2-6b1867e9c24e@osaka-live.app
DTSTAMP:20260424T154830Z
DTSTART;VALUE=DATE:20260627
DTEND;VALUE=DATE:20260628
SUMMARY:STAR BONES 銀幕一楼とTIMECAFE×HONEBONE TWO MAN TOUR TWO DAYS
LOCATION:Americamura DROP\, Osaka\, Japan
END:VEVENT
END:VCALENDAR
