BEGIN:VCALENDAR
VERSION:2.0
PRODID:-//OsakaLive//OsakaLive//EN
CALSCALE:GREGORIAN
METHOD:PUBLISH
BEGIN:VEVENT
UID:a116d9b6-a8ba-4317-993f-8b8501f27481@osaka-live.app
DTSTAMP:20260424T135418Z
DTSTART;TZID=Asia/Tokyo:20260703T1900:0000
DTEND;TZID=Asia/Tokyo:20260703T210000
SUMMARY:NOWON
LOCATION:Namba BEARS\, Osaka\, Japan
DESCRIPTION:Adv ¥2,000 / Door ¥2,000\nDoors 18:30:00\nStart 19:00:00
END:VEVENT
END:VCALENDAR
