BEGIN:VCALENDAR
VERSION:2.0
PRODID:-//OsakaLive//OsakaLive//EN
CALSCALE:GREGORIAN
METHOD:PUBLISH
BEGIN:VEVENT
UID:a0ee2cc4-804f-40c9-8e75-b307907a18bf@osaka-live.app
DTSTAMP:20260425T003422Z
DTSTART;VALUE=DATE:20270508
DTEND;VALUE=DATE:20270509
SUMMARY:■Hawthorne Heights、Armor For Sleep
LOCATION:Grand Cube Osaka\, Osaka\, Japan
END:VEVENT
END:VCALENDAR
