BEGIN:VCALENDAR
VERSION:2.0
PRODID:-//OsakaLive//OsakaLive//EN
CALSCALE:GREGORIAN
METHOD:PUBLISH
BEGIN:VEVENT
UID:a02f2df6-fe8d-464a-85cb-b1dbaa1bffad@osaka-live.app
DTSTAMP:20260424T121352Z
DTSTART;TZID=Asia/Tokyo:20260507T1930:0000
DTEND;TZID=Asia/Tokyo:20260507T213000
SUMMARY:line in da utopia.
LOCATION:Namba BEARS\, Osaka\, Japan
DESCRIPTION:Adv ¥3,000 / Door ¥3,500\nStart 19:30:00
END:VEVENT
END:VCALENDAR
