BEGIN:VCALENDAR
VERSION:2.0
PRODID:-//OsakaLive//OsakaLive//EN
CALSCALE:GREGORIAN
METHOD:PUBLISH
BEGIN:VEVENT
UID:9faefdbb-d1b1-437c-9162-605571bb4c40@osaka-live.app
DTSTAMP:20260424T122332Z
DTSTART;TZID=Asia/Tokyo:20260426T1700:0000
DTEND;TZID=Asia/Tokyo:20260426T190000
SUMMARY:SUMMER SLASH&DMBQ presents
LOCATION:Namba BEARS\, Osaka\, Japan
DESCRIPTION:Adv ¥3,000 / Door ¥1,800\nDoors 16:30:00\nStart 17:00:00
END:VEVENT
END:VCALENDAR
