BEGIN:VCALENDAR
VERSION:2.0
PRODID:-//OsakaLive//OsakaLive//EN
CALSCALE:GREGORIAN
METHOD:PUBLISH
BEGIN:VEVENT
UID:9f72f487-b855-4ec1-bf3c-42e1b9afb9e4@osaka-live.app
DTSTAMP:20260424T214442Z
DTSTART;VALUE=DATE:20270503
DTEND;VALUE=DATE:20270504
SUMMARY:■ケニー・ドープ／Kenny Dope
LOCATION:Grand Cube Osaka\, Osaka\, Japan
END:VEVENT
END:VCALENDAR
