BEGIN:VCALENDAR
VERSION:2.0
PRODID:-//OsakaLive//OsakaLive//EN
CALSCALE:GREGORIAN
METHOD:PUBLISH
BEGIN:VEVENT
UID:9e761c4a-0e7c-488d-9f08-ec05b9ae3c6a@osaka-live.app
DTSTAMP:20260424T140202Z
DTSTART;TZID=Asia/Tokyo:20260519T1930:0000
DTEND;TZID=Asia/Tokyo:20260519T213000
SUMMARY:the paddles 柄須賀 皇司 pre
LOCATION:Yogibo META VALLEY\, Osaka\, Japan
DESCRIPTION:Adv ¥8,000 / Door ¥3,500\nDoors 18:45:00\nStart 19:30:00
END:VEVENT
END:VCALENDAR
