BEGIN:VCALENDAR
VERSION:2.0
PRODID:-//OsakaLive//OsakaLive//EN
CALSCALE:GREGORIAN
METHOD:PUBLISH
BEGIN:VEVENT
UID:9d94d454-07bf-47dc-b12e-c49265caf1d3@osaka-live.app
DTSTAMP:20260424T140022Z
DTSTART;TZID=Asia/Tokyo:20260530T1630:0000
DTEND;TZID=Asia/Tokyo:20260530T183000
SUMMARY:KOTOKO LIVE TOUR 喜怒哀楽 ~Fun Spring~ [DAY1
LOCATION:Yogibo META VALLEY\, Osaka\, Japan
DESCRIPTION:Adv ¥4,800 / Door ¥6,900\nDoors 16:00:00\nStart 16:30:00
END:VEVENT
END:VCALENDAR
