BEGIN:VCALENDAR
VERSION:2.0
PRODID:-//OsakaLive//OsakaLive//EN
CALSCALE:GREGORIAN
METHOD:PUBLISH
BEGIN:VEVENT
UID:9d47ff5f-d270-4bf1-a0dd-97b2bea94b26@osaka-live.app
DTSTAMP:20260424T135839Z
DTSTART;VALUE=DATE:20260726
DTEND;VALUE=DATE:20260727
SUMMARY:えでぃまぁこん
LOCATION:Namba BEARS\, Osaka\, Japan
END:VEVENT
END:VCALENDAR
