BEGIN:VCALENDAR
VERSION:2.0
PRODID:-//OsakaLive//OsakaLive//EN
CALSCALE:GREGORIAN
METHOD:PUBLISH
BEGIN:VEVENT
UID:9c945258-f4c7-4b53-9976-2adcc8e3555d@osaka-live.app
DTSTAMP:20260425T003851Z
DTSTART;VALUE=DATE:20270516
DTEND;VALUE=DATE:20270517
SUMMARY:■Nothing Sacred
LOCATION:Osaka Ruido\, Namba\, Chuo Ward\, Osaka
END:VEVENT
END:VCALENDAR
