BEGIN:VCALENDAR
VERSION:2.0
PRODID:-//OsakaLive//OsakaLive//EN
CALSCALE:GREGORIAN
METHOD:PUBLISH
BEGIN:VEVENT
UID:9bb1abd0-ab92-44d8-8a57-cbe0857291be@osaka-live.app
DTSTAMP:20260425T003549Z
DTSTART;VALUE=DATE:20270516
DTEND;VALUE=DATE:20270517
SUMMARY:■ホット・ミルク／Hot Milk
LOCATION:Grand Cube Osaka\, Osaka\, Japan
END:VEVENT
END:VCALENDAR
