BEGIN:VCALENDAR
VERSION:2.0
PRODID:-//OsakaLive//OsakaLive//EN
CALSCALE:GREGORIAN
METHOD:PUBLISH
BEGIN:VEVENT
UID:9b8eb6e4-0319-4e88-87d3-e8441b87792c@osaka-live.app
DTSTAMP:20260424T135608Z
DTSTART;TZID=Asia/Tokyo:20260626T1900:0000
DTEND;TZID=Asia/Tokyo:20260626T210000
SUMMARY:Lunaʼs DJ Live ~もうちょいで夏
LOCATION:Yogibo META VALLEY\, Osaka\, Japan
DESCRIPTION:Adv ¥9,300 / Door ¥8,800\nDoors 18:00:00\nStart 19:00:00
END:VEVENT
END:VCALENDAR
