BEGIN:VCALENDAR
VERSION:2.0
PRODID:-//OsakaLive//OsakaLive//EN
CALSCALE:GREGORIAN
METHOD:PUBLISH
BEGIN:VEVENT
UID:9b7cc0cd-e289-4587-a376-65bf97eb3a8c@osaka-live.app
DTSTAMP:20260424T133648Z
DTSTART;TZID=Asia/Tokyo:20261114T1940:0000
DTEND;TZID=Asia/Tokyo:20261114T214000
SUMMARY:コンパクトディスクガールポップ vol.2
LOCATION:Namba Mele\, Namba\, Chuo Ward\, Osaka
DESCRIPTION:Adv ¥4,500 / Door ¥5,000\nDoors 19:00:00\nStart 19:40:00\nTicke
 ts: https://eplus.jp/sf/detail/4473500001-P0030001
URL:https://eplus.jp/sf/detail/4473500001-P0030001
END:VEVENT
END:VCALENDAR
