BEGIN:VCALENDAR
VERSION:2.0
PRODID:-//OsakaLive//OsakaLive//EN
CALSCALE:GREGORIAN
METHOD:PUBLISH
BEGIN:VEVENT
UID:9b64e412-75c4-4425-a390-2c29d3af7142@osaka-live.app
DTSTAMP:20260424T135218Z
DTSTART;TZID=Asia/Tokyo:20260627T1200:0000
DTEND;TZID=Asia/Tokyo:20260627T140000
SUMMARY:herpiano
LOCATION:Namba BEARS\, Osaka\, Japan
DESCRIPTION:Adv ¥2,500 / Door ¥1,000\nDoors 11:30:00\nStart 12:00:00
END:VEVENT
END:VCALENDAR
