BEGIN:VCALENDAR
VERSION:2.0
PRODID:-//OsakaLive//OsakaLive//EN
CALSCALE:GREGORIAN
METHOD:PUBLISH
BEGIN:VEVENT
UID:9b102376-bbd6-46ae-8597-807b69bef9c1@osaka-live.app
DTSTAMP:20260424T122408Z
DTSTART;TZID=Asia/Tokyo:20260514T1830:0000
DTEND;TZID=Asia/Tokyo:20260514T203000
SUMMARY:fuk 149
LOCATION:Namba BEARS\, Osaka\, Japan
DESCRIPTION:Adv ¥2,300 / Door ¥2,800\nStart 18:30:00
END:VEVENT
END:VCALENDAR
