BEGIN:VCALENDAR
VERSION:2.0
PRODID:-//OsakaLive//OsakaLive//EN
CALSCALE:GREGORIAN
METHOD:PUBLISH
BEGIN:VEVENT
UID:9a3799c1-2215-48c1-a7e9-32a9f414360e@osaka-live.app
DTSTAMP:20260424T122621Z
DTSTART;TZID=Asia/Tokyo:20260429T1730:0000
DTEND;TZID=Asia/Tokyo:20260429T193000
SUMMARY:Music House Party #5
LOCATION:Yogibo META VALLEY\, Osaka\, Japan
DESCRIPTION:Adv ¥3,500 / Door ¥5,500\nDoors 17:00:00\nStart 17:30:00
END:VEVENT
END:VCALENDAR
