BEGIN:VCALENDAR
VERSION:2.0
PRODID:-//OsakaLive//OsakaLive//EN
CALSCALE:GREGORIAN
METHOD:PUBLISH
BEGIN:VEVENT
UID:9917eb28-7c3a-4729-a644-21686fdfe76d@osaka-live.app
DTSTAMP:20260424T140022Z
DTSTART;VALUE=DATE:20260516
DTEND;VALUE=DATE:20260517
SUMMARY:ムステインズPresents.
LOCATION:Namba Mele\, Namba\, Chuo Ward\, Osaka
DESCRIPTION:Tickets: https://eplus.jp/sf/detail/4473500001-P0030001
URL:https://eplus.jp/sf/detail/4473500001-P0030001
END:VEVENT
END:VCALENDAR
