BEGIN:VCALENDAR
VERSION:2.0
PRODID:-//OsakaLive//OsakaLive//EN
CALSCALE:GREGORIAN
METHOD:PUBLISH
BEGIN:VEVENT
UID:98393707-fe32-49ef-8684-273cff24dd82@osaka-live.app
DTSTAMP:20260424T123746Z
DTSTART;VALUE=DATE:20260414
DTEND;VALUE=DATE:20260415
SUMMARY:NIGHT
LOCATION:Hokage\, Chuo Ward\, Nishishinsaibashi 2-9-36\, Kasai Bldg B1F
END:VEVENT
END:VCALENDAR
