BEGIN:VCALENDAR
VERSION:2.0
PRODID:-//OsakaLive//OsakaLive//EN
CALSCALE:GREGORIAN
METHOD:PUBLISH
BEGIN:VEVENT
UID:9770e3b7-7af3-4b02-a94c-e9cfba2e8b7a@osaka-live.app
DTSTAMP:20260424T134243Z
DTSTART;VALUE=DATE:20260526
DTEND;VALUE=DATE:20260527
SUMMARY:カラオケスナック
LOCATION:Namba BEARS\, Osaka\, Japan
END:VEVENT
END:VCALENDAR
