BEGIN:VCALENDAR
VERSION:2.0
PRODID:-//OsakaLive//OsakaLive//EN
CALSCALE:GREGORIAN
METHOD:PUBLISH
BEGIN:VEVENT
UID:95c6211b-c010-4043-986b-4dc1af50c24e@osaka-live.app
DTSTAMP:20260424T154527Z
DTSTART;VALUE=DATE:20260423
DTEND;VALUE=DATE:20260424
SUMMARY:ioman s BAR
LOCATION:Americamura DROP\, Osaka\, Japan
END:VEVENT
END:VCALENDAR
