BEGIN:VCALENDAR
VERSION:2.0
PRODID:-//OsakaLive//OsakaLive//EN
CALSCALE:GREGORIAN
METHOD:PUBLISH
BEGIN:VEVENT
UID:951d7d1c-16d1-4956-95f2-b83a2c606fd0@osaka-live.app
DTSTAMP:20260424T140059Z
DTSTART;TZID=Asia/Tokyo:20260516T1545:0000
DTEND;TZID=Asia/Tokyo:20260516T174500
SUMMARY:you kiyo shuji
LOCATION:Yogibo META VALLEY\, Osaka\, Japan
DESCRIPTION:Adv ¥8,800 / Door ¥8,000\nDoors 15:00:00\nStart 15:45:00
END:VEVENT
END:VCALENDAR
