BEGIN:VCALENDAR
VERSION:2.0
PRODID:-//OsakaLive//OsakaLive//EN
CALSCALE:GREGORIAN
METHOD:PUBLISH
BEGIN:VEVENT
UID:94b044ca-ae15-41b3-b937-d2d0b8f5f85f@osaka-live.app
DTSTAMP:20260424T122249Z
DTSTART;VALUE=DATE:20260426
DTEND;VALUE=DATE:20260427
SUMMARY:とりとうわばみ 灯焦がれ虫遍
LOCATION:Umeda Zeela\, Osaka\, Japan
DESCRIPTION:Adv ¥6,300 / Door ¥7,300
END:VEVENT
END:VCALENDAR
