BEGIN:VCALENDAR
VERSION:2.0
PRODID:-//OsakaLive//OsakaLive//EN
CALSCALE:GREGORIAN
METHOD:PUBLISH
BEGIN:VEVENT
UID:9434303a-7dac-4edf-8de0-9d2ac122678f@osaka-live.app
DTSTAMP:20260424T140142Z
DTSTART;TZID=Asia/Tokyo:20260725T1730:0000
DTEND;TZID=Asia/Tokyo:20260725T193000
SUMMARY:DEXCORE Beyond the storm TOUR
LOCATION:Yogibo META VALLEY\, Osaka\, Japan
DESCRIPTION:Adv ¥7,000 / Door ¥5,000\nDoors 17:00:00\nStart 17:30:00
END:VEVENT
END:VCALENDAR
